BEGIN:VCALENDAR
VERSION:2.0
PRODID:-//Sydney Eesti Selts - ECPv6.15.20//NONSGML v1.0//EN
CALSCALE:GREGORIAN
METHOD:PUBLISH
X-WR-CALNAME:Sydney Eesti Selts
X-ORIGINAL-URL:http://sydneyeestiselts.org.au
X-WR-CALDESC:Events for Sydney Eesti Selts
REFRESH-INTERVAL;VALUE=DURATION:PT1H
X-Robots-Tag:noindex
X-PUBLISHED-TTL:PT1H
BEGIN:VTIMEZONE
TZID:Australia/Sydney
BEGIN:STANDARD
TZOFFSETFROM:+1100
TZOFFSETTO:+1000
TZNAME:AEST
DTSTART:20290331T160000
END:STANDARD
BEGIN:DAYLIGHT
TZOFFSETFROM:+1000
TZOFFSETTO:+1100
TZNAME:AEDT
DTSTART:20291006T160000
END:DAYLIGHT
BEGIN:STANDARD
TZOFFSETFROM:+1100
TZOFFSETTO:+1000
TZNAME:AEST
DTSTART:20300406T160000
END:STANDARD
BEGIN:DAYLIGHT
TZOFFSETFROM:+1000
TZOFFSETTO:+1100
TZNAME:AEDT
DTSTART:20301005T160000
END:DAYLIGHT
BEGIN:STANDARD
TZOFFSETFROM:+1100
TZOFFSETTO:+1000
TZNAME:AEST
DTSTART:20310405T160000
END:STANDARD
BEGIN:DAYLIGHT
TZOFFSETFROM:+1000
TZOFFSETTO:+1100
TZNAME:AEDT
DTSTART:20311004T160000
END:DAYLIGHT
END:VTIMEZONE
BEGIN:VEVENT
DTSTART;TZID=Australia/Sydney:20300102T194500
DTEND;TZID=Australia/Sydney:20300102T211500
DTSTAMP:20260424T045132
CREATED:20230207T022019Z
LAST-MODIFIED:20251222T084921Z
UID:10002328-1893613500-1893618900@sydneyeestiselts.org.au
SUMMARY:„Eesti Keel algaja" | Estonian Language Classes (Beginners)
DESCRIPTION:You might have heard the joke “Estonian has no sex and no future” before\, referring of course to the fact that there are no genders and no future tense in the Estonian language. With 8 dialects and 117 subdialects\, and 14 different case forms it can be quite a daunting task to learn on your own but the pay off is rewarding! To help you join over 1 million Estonian speakers (and 5 million Finns)\, we have dedicated beginners Estonian classes every Wednesday hosted by Maris Saar\, a professional teacher who will guide you in the process. \nClasses are held every Wednesday from 6:45-8:15pm at Estonian House and new learners are always welcome! Please note some classes may be held over Zoom. Do not hesitate to contact Maris on marissaar@hotmail.com for any questions or inquiries.
URL:http://sydneyeestiselts.org.au/event/eesti-keel-algaja-estonian-language-classes-beginners/2030-01-02/
LOCATION:141 Campbell St\, Surry Hills\, 2010\, Australia
CATEGORIES:Casual,Community,Culture,Language
ATTACH;FMTTYPE=image/png:http://sydneyeestiselts.org.au/wp-content/uploads/2018/08/eesti_language_class.png
END:VEVENT
BEGIN:VEVENT
DTSTART;TZID=Australia/Sydney:20300107T180000
DTEND;TZID=Australia/Sydney:20300107T210000
DTSTAMP:20260424T045132
CREATED:20250920T161722Z
LAST-MODIFIED:20251011T205103Z
UID:10003797-1894039200-1894050000@sydneyeestiselts.org.au
SUMMARY:„Virmalised“ rahvatantsu proov | Folkdancing rehearsals
DESCRIPTION:Join us in 2025!\n\nWhether you’re new to Estonian dancing\, or rejoining after a hiatus\, now is the perfect time to join! \n\nInterested?\n\nContact us – sydney.virmalised@gmail.com\, @sydneyvirmalised on Instagram or Virmalised – Sydney Estonian Folk Dancers on Facebook/Messenger\n 
URL:http://sydneyeestiselts.org.au/event/virmalised-rahvatantsu-proov-folkdancing-rehearsals-3-2/2030-01-07/
CATEGORIES:Casual,Community,Dancing
ATTACH;FMTTYPE=image/jpeg:http://sydneyeestiselts.org.au/wp-content/uploads/2025/07/3cd10f95-d1b5-4ec0-af42-78fafd126090.jpg
END:VEVENT
BEGIN:VEVENT
DTSTART;TZID=Australia/Sydney:20300109T194500
DTEND;TZID=Australia/Sydney:20300109T211500
DTSTAMP:20260424T045132
CREATED:20230207T022019Z
LAST-MODIFIED:20251222T084921Z
UID:10002329-1894218300-1894223700@sydneyeestiselts.org.au
SUMMARY:„Eesti Keel algaja" | Estonian Language Classes (Beginners)
DESCRIPTION:You might have heard the joke “Estonian has no sex and no future” before\, referring of course to the fact that there are no genders and no future tense in the Estonian language. With 8 dialects and 117 subdialects\, and 14 different case forms it can be quite a daunting task to learn on your own but the pay off is rewarding! To help you join over 1 million Estonian speakers (and 5 million Finns)\, we have dedicated beginners Estonian classes every Wednesday hosted by Maris Saar\, a professional teacher who will guide you in the process. \nClasses are held every Wednesday from 6:45-8:15pm at Estonian House and new learners are always welcome! Please note some classes may be held over Zoom. Do not hesitate to contact Maris on marissaar@hotmail.com for any questions or inquiries.
URL:http://sydneyeestiselts.org.au/event/eesti-keel-algaja-estonian-language-classes-beginners/2030-01-09/
LOCATION:141 Campbell St\, Surry Hills\, 2010\, Australia
CATEGORIES:Casual,Community,Culture,Language
ATTACH;FMTTYPE=image/png:http://sydneyeestiselts.org.au/wp-content/uploads/2018/08/eesti_language_class.png
END:VEVENT
BEGIN:VEVENT
DTSTART;TZID=Australia/Sydney:20300114T180000
DTEND;TZID=Australia/Sydney:20300114T210000
DTSTAMP:20260424T045132
CREATED:20250920T161722Z
LAST-MODIFIED:20251011T205103Z
UID:10003798-1894644000-1894654800@sydneyeestiselts.org.au
SUMMARY:„Virmalised“ rahvatantsu proov | Folkdancing rehearsals
DESCRIPTION:Join us in 2025!\n\nWhether you’re new to Estonian dancing\, or rejoining after a hiatus\, now is the perfect time to join! \n\nInterested?\n\nContact us – sydney.virmalised@gmail.com\, @sydneyvirmalised on Instagram or Virmalised – Sydney Estonian Folk Dancers on Facebook/Messenger\n 
URL:http://sydneyeestiselts.org.au/event/virmalised-rahvatantsu-proov-folkdancing-rehearsals-3-2/2030-01-14/
CATEGORIES:Casual,Community,Dancing
ATTACH;FMTTYPE=image/jpeg:http://sydneyeestiselts.org.au/wp-content/uploads/2025/07/3cd10f95-d1b5-4ec0-af42-78fafd126090.jpg
END:VEVENT
BEGIN:VEVENT
DTSTART;TZID=Australia/Sydney:20300116T194500
DTEND;TZID=Australia/Sydney:20300116T211500
DTSTAMP:20260424T045132
CREATED:20230207T022019Z
LAST-MODIFIED:20251222T084921Z
UID:10002330-1894823100-1894828500@sydneyeestiselts.org.au
SUMMARY:„Eesti Keel algaja" | Estonian Language Classes (Beginners)
DESCRIPTION:You might have heard the joke “Estonian has no sex and no future” before\, referring of course to the fact that there are no genders and no future tense in the Estonian language. With 8 dialects and 117 subdialects\, and 14 different case forms it can be quite a daunting task to learn on your own but the pay off is rewarding! To help you join over 1 million Estonian speakers (and 5 million Finns)\, we have dedicated beginners Estonian classes every Wednesday hosted by Maris Saar\, a professional teacher who will guide you in the process. \nClasses are held every Wednesday from 6:45-8:15pm at Estonian House and new learners are always welcome! Please note some classes may be held over Zoom. Do not hesitate to contact Maris on marissaar@hotmail.com for any questions or inquiries.
URL:http://sydneyeestiselts.org.au/event/eesti-keel-algaja-estonian-language-classes-beginners/2030-01-16/
LOCATION:141 Campbell St\, Surry Hills\, 2010\, Australia
CATEGORIES:Casual,Community,Culture,Language
ATTACH;FMTTYPE=image/png:http://sydneyeestiselts.org.au/wp-content/uploads/2018/08/eesti_language_class.png
END:VEVENT
BEGIN:VEVENT
DTSTART;TZID=Australia/Sydney:20300121T180000
DTEND;TZID=Australia/Sydney:20300121T210000
DTSTAMP:20260424T045132
CREATED:20250920T161722Z
LAST-MODIFIED:20251011T205103Z
UID:10003799-1895248800-1895259600@sydneyeestiselts.org.au
SUMMARY:„Virmalised“ rahvatantsu proov | Folkdancing rehearsals
DESCRIPTION:Join us in 2025!\n\nWhether you’re new to Estonian dancing\, or rejoining after a hiatus\, now is the perfect time to join! \n\nInterested?\n\nContact us – sydney.virmalised@gmail.com\, @sydneyvirmalised on Instagram or Virmalised – Sydney Estonian Folk Dancers on Facebook/Messenger\n 
URL:http://sydneyeestiselts.org.au/event/virmalised-rahvatantsu-proov-folkdancing-rehearsals-3-2/2030-01-21/
CATEGORIES:Casual,Community,Dancing
ATTACH;FMTTYPE=image/jpeg:http://sydneyeestiselts.org.au/wp-content/uploads/2025/07/3cd10f95-d1b5-4ec0-af42-78fafd126090.jpg
END:VEVENT
BEGIN:VEVENT
DTSTART;TZID=Australia/Sydney:20300123T194500
DTEND;TZID=Australia/Sydney:20300123T211500
DTSTAMP:20260424T045132
CREATED:20230207T022019Z
LAST-MODIFIED:20251222T084921Z
UID:10002331-1895427900-1895433300@sydneyeestiselts.org.au
SUMMARY:„Eesti Keel algaja" | Estonian Language Classes (Beginners)
DESCRIPTION:You might have heard the joke “Estonian has no sex and no future” before\, referring of course to the fact that there are no genders and no future tense in the Estonian language. With 8 dialects and 117 subdialects\, and 14 different case forms it can be quite a daunting task to learn on your own but the pay off is rewarding! To help you join over 1 million Estonian speakers (and 5 million Finns)\, we have dedicated beginners Estonian classes every Wednesday hosted by Maris Saar\, a professional teacher who will guide you in the process. \nClasses are held every Wednesday from 6:45-8:15pm at Estonian House and new learners are always welcome! Please note some classes may be held over Zoom. Do not hesitate to contact Maris on marissaar@hotmail.com for any questions or inquiries.
URL:http://sydneyeestiselts.org.au/event/eesti-keel-algaja-estonian-language-classes-beginners/2030-01-23/
LOCATION:141 Campbell St\, Surry Hills\, 2010\, Australia
CATEGORIES:Casual,Community,Culture,Language
ATTACH;FMTTYPE=image/png:http://sydneyeestiselts.org.au/wp-content/uploads/2018/08/eesti_language_class.png
END:VEVENT
BEGIN:VEVENT
DTSTART;TZID=Australia/Sydney:20300128T180000
DTEND;TZID=Australia/Sydney:20300128T210000
DTSTAMP:20260424T045132
CREATED:20250920T161722Z
LAST-MODIFIED:20251011T205103Z
UID:10003800-1895853600-1895864400@sydneyeestiselts.org.au
SUMMARY:„Virmalised“ rahvatantsu proov | Folkdancing rehearsals
DESCRIPTION:Join us in 2025!\n\nWhether you’re new to Estonian dancing\, or rejoining after a hiatus\, now is the perfect time to join! \n\nInterested?\n\nContact us – sydney.virmalised@gmail.com\, @sydneyvirmalised on Instagram or Virmalised – Sydney Estonian Folk Dancers on Facebook/Messenger\n 
URL:http://sydneyeestiselts.org.au/event/virmalised-rahvatantsu-proov-folkdancing-rehearsals-3-2/2030-01-28/
CATEGORIES:Casual,Community,Dancing
ATTACH;FMTTYPE=image/jpeg:http://sydneyeestiselts.org.au/wp-content/uploads/2025/07/3cd10f95-d1b5-4ec0-af42-78fafd126090.jpg
END:VEVENT
BEGIN:VEVENT
DTSTART;TZID=Australia/Sydney:20300130T194500
DTEND;TZID=Australia/Sydney:20300130T211500
DTSTAMP:20260424T045132
CREATED:20230207T022019Z
LAST-MODIFIED:20251222T084921Z
UID:10002332-1896032700-1896038100@sydneyeestiselts.org.au
SUMMARY:„Eesti Keel algaja" | Estonian Language Classes (Beginners)
DESCRIPTION:You might have heard the joke “Estonian has no sex and no future” before\, referring of course to the fact that there are no genders and no future tense in the Estonian language. With 8 dialects and 117 subdialects\, and 14 different case forms it can be quite a daunting task to learn on your own but the pay off is rewarding! To help you join over 1 million Estonian speakers (and 5 million Finns)\, we have dedicated beginners Estonian classes every Wednesday hosted by Maris Saar\, a professional teacher who will guide you in the process. \nClasses are held every Wednesday from 6:45-8:15pm at Estonian House and new learners are always welcome! Please note some classes may be held over Zoom. Do not hesitate to contact Maris on marissaar@hotmail.com for any questions or inquiries.
URL:http://sydneyeestiselts.org.au/event/eesti-keel-algaja-estonian-language-classes-beginners/2030-01-30/
LOCATION:141 Campbell St\, Surry Hills\, 2010\, Australia
CATEGORIES:Casual,Community,Culture,Language
ATTACH;FMTTYPE=image/png:http://sydneyeestiselts.org.au/wp-content/uploads/2018/08/eesti_language_class.png
END:VEVENT
END:VCALENDAR